1.00000000000000
0.00000000000000
0.00000000000000
-1.00000000000000
735928.50000000
1409166.50000000
