1.00000000000000
0.00000000000000
0.00000000000000
-1.00000000000000
744238.50000000
1420340.50000000
