1.00000000000000
0.00000000000000
0.00000000000000
-1.00000000000000
736241.50000000
1420557.50000000
