1.00000000000000
0.00000000000000
0.00000000000000
-1.00000000000000
759934.50000000
1408522.50000000
