1.00000000000000
0.00000000000000
0.00000000000000
-1.00000000000000
751932.50000000
1408734.50000000
