1.00000000000000
0.00000000000000
0.00000000000000
-1.00000000000000
760233.50000000
1419914.50000000
