1.00000000000000
0.00000000000000
0.00000000000000
-1.00000000000000
752235.50000000
1420125.50000000
