1.00000000000000
0.00000000000000
0.00000000000000
-1.00000000000000
727294.50000000
1386605.50000000
