1.00000000000000
0.00000000000000
0.00000000000000
-1.00000000000000
727610.50000000
1397996.50000000
