1.00000000000000
0.00000000000000
0.00000000000000
-1.00000000000000
719605.50000000
1398220.50000000
