1.00000000000000
0.00000000000000
0.00000000000000
-1.00000000000000
711924.50000000
1409837.50000000
