1.00000000000000
0.00000000000000
0.00000000000000
-1.00000000000000
712249.50000000
1421228.50000000
