1.00000000000000
0.00000000000000
0.00000000000000
-1.00000000000000
727927.50000000
1409387.50000000
