1.00000000000000
0.00000000000000
0.00000000000000
-1.00000000000000
719925.50000000
1409610.50000000
