1.00000000000000
0.00000000000000
0.00000000000000
-1.00000000000000
728243.50000000
1420778.50000000
