1.00000000000000
0.00000000000000
0.00000000000000
-1.00000000000000
720246.50000000
1421002.50000000
