1.00000000000000
0.00000000000000
0.00000000000000
-1.00000000000000
744546.50000000
1431731.50000000
