1.00000000000000
0.00000000000000
0.00000000000000
-1.00000000000000
736553.50000000
1431949.50000000
