1.00000000000000
0.00000000000000
0.00000000000000
-1.00000000000000
728560.50000000
1432169.50000000
