1.00000000000000
0.00000000000000
0.00000000000000
-1.00000000000000
720567.50000000
1432393.50000000
